BEGIN:VCALENDAR
VERSION:2.0
PRODID:-//Tukios.com/
BEGIN:VEVENT
UID:8c72afe6-101a-4fff-8482-af3e3c6bc4f5@www.leightonmackinnon.com
DTSTAMP:20260424T200209Z
DTSTART:20260529T150000Z
DTEND:20260529T160000Z
SUMMARY:Graveside Service
DESCRIPTION:
URL:https://www.leightonmackinnon.com/obituaries/barbara-fenter
LOCATION: Mattakeesett Street  Pembroke MA 02359
GEO:42.0611673;-70.8271867
END:VEVENT
END:VCALENDAR